BEGIN:VCALENDAR
VERSION:2.0
PRODID:-//Purgatory Clay Sports - ECPv6.15.20//NONSGML v1.0//EN
CALSCALE:GREGORIAN
METHOD:PUBLISH
X-WR-CALNAME:Purgatory Clay Sports
X-ORIGINAL-URL:https://purgatoryclays.com
X-WR-CALDESC:Events for Purgatory Clay Sports
REFRESH-INTERVAL;VALUE=DURATION:PT1H
X-Robots-Tag:noindex
X-PUBLISHED-TTL:PT1H
BEGIN:VTIMEZONE
TZID:America/Denver
BEGIN:DAYLIGHT
TZOFFSETFROM:-0700
TZOFFSETTO:-0600
TZNAME:MDT
DTSTART:20250309T090000
END:DAYLIGHT
BEGIN:STANDARD
TZOFFSETFROM:-0600
TZOFFSETTO:-0700
TZNAME:MST
DTSTART:20251102T080000
END:STANDARD
BEGIN:DAYLIGHT
TZOFFSETFROM:-0700
TZOFFSETTO:-0600
TZNAME:MDT
DTSTART:20260308T090000
END:DAYLIGHT
BEGIN:STANDARD
TZOFFSETFROM:-0600
TZOFFSETTO:-0700
TZNAME:MST
DTSTART:20261101T080000
END:STANDARD
BEGIN:DAYLIGHT
TZOFFSETFROM:-0700
TZOFFSETTO:-0600
TZNAME:MDT
DTSTART:20270314T090000
END:DAYLIGHT
BEGIN:STANDARD
TZOFFSETFROM:-0600
TZOFFSETTO:-0700
TZNAME:MST
DTSTART:20271107T080000
END:STANDARD
END:VTIMEZONE
BEGIN:VEVENT
DTSTART;TZID=America/Denver:20260423T090000
DTEND;TZID=America/Denver:20260426T150000
DTSTAMP:20260421T041416
CREATED:20251031T212603Z
LAST-MODIFIED:20251031T212605Z
UID:10000084-1776934800-1777215600@purgatoryclays.com
SUMMARY:Utah State Sporting Clays Championship
DESCRIPTION:Utah State Championship\, sign up on Scorechaser.com.
URL:https://purgatoryclays.com/event/utah-state-sporting-clays-championship
END:VEVENT
BEGIN:VEVENT
DTSTART;TZID=America/Denver:20260505T180000
DTEND;TZID=America/Denver:20260505T190000
DTSTAMP:20260421T041416
CREATED:20251031T212943Z
LAST-MODIFIED:20260318T234911Z
UID:10000087-1778004000-1778007600@purgatoryclays.com
SUMMARY:Board Meeting
DESCRIPTION:Board Meeting at 6pm. Election meeting 7pm.
URL:https://purgatoryclays.com/event/board-meeting-13
END:VEVENT
BEGIN:VEVENT
DTSTART;TZID=America/Denver:20260509T090000
DTEND;TZID=America/Denver:20260509T150000
DTSTAMP:20260421T041416
CREATED:20251031T213030Z
LAST-MODIFIED:20251031T213034Z
UID:10000088-1778317200-1778338800@purgatoryclays.com
SUMMARY:Fun Shoot
DESCRIPTION:100 Main/Purgatory. 50 SuperSport. 50 C&D Long Birds. 50 20ga\, 50 28ga and 50 Skeet.    Sign up at Scorechaser.com
URL:https://purgatoryclays.com/event/fun-shoot-21
ATTACH;FMTTYPE=image/jpeg:https://purgatoryclays.com/wp-content/uploads/2025/03/Fun-Shoot.jpg
END:VEVENT
BEGIN:VEVENT
DTSTART;TZID=America/Denver:20260516T090000
DTEND;TZID=America/Denver:20260516T150000
DTSTAMP:20260421T041416
CREATED:20251031T213155Z
LAST-MODIFIED:20251031T213159Z
UID:10000089-1778922000-1778943600@purgatoryclays.com
SUMMARY:Fun Shoot
DESCRIPTION:100 Main/Flats. 50 5 Stand. 50 20ga\, 50 28ga and 50 Skeet.    Sign up at Scorechaser.com
URL:https://purgatoryclays.com/event/fun-shoot-22
ATTACH;FMTTYPE=image/jpeg:https://purgatoryclays.com/wp-content/uploads/2025/03/Fun-Shoot.jpg
END:VEVENT
END:VCALENDAR